BEGIN:VCALENDAR
VERSION:2.0
PRODID:-//Forest Master - ECPv6.15.18//NONSGML v1.0//EN
CALSCALE:GREGORIAN
METHOD:PUBLISH
X-ORIGINAL-URL:https://forest-master.com
X-WR-CALDESC:Events for Forest Master
REFRESH-INTERVAL;VALUE=DURATION:PT1H
X-Robots-Tag:noindex
X-PUBLISHED-TTL:PT1H
BEGIN:VTIMEZONE
TZID:UTC
BEGIN:STANDARD
TZOFFSETFROM:+0000
TZOFFSETTO:+0000
TZNAME:UTC
DTSTART:20220101T000000
END:STANDARD
END:VTIMEZONE
BEGIN:VEVENT
DTSTART;VALUE=DATE:20230512
DTEND;VALUE=DATE:20230514
DTSTAMP:20260423T113224
CREATED:20230323T085730Z
LAST-MODIFIED:20230323T090446Z
UID:34012-1683849600-1684022399@forest-master.com
SUMMARY:The ARB Show 2023
DESCRIPTION:We are excited to announce that we will be attending The ARB Show\, which returns to Westonbirt for a celebration of the world of tree care. This must-visit event for arborists promises a unique experience for all those with a passion for trees and the tree care industry\, featuring a host of new activities. With tickets now on sale\, we can’t wait to be a part of one of the biggest UK shows dedicated to arboriculture. \nClick here to find out more information and purchase your tickets
URL:https://forest-master.com/trade-show/the-arb-show-2023/
LOCATION:The ARB Show\, Westonbirt\, Tetbury\, Gloucestershire\, GL8 8QS\, United Kingdom
ATTACH;FMTTYPE=image/jpeg:https://forest-master.com/wp-content/uploads/2023/03/12th-13th-May-2023-scaled.jpg
ORGANIZER;CN="The Arboricultural Association":MAILTO:admin@trees.org.uk
END:VEVENT
END:VCALENDAR