BEGIN:VCALENDAR
VERSION:2.0
PRODID:-//Forest Master - ECPv6.15.18//NONSGML v1.0//EN
CALSCALE:GREGORIAN
METHOD:PUBLISH
X-WR-CALNAME:Forest Master
X-ORIGINAL-URL:https://forest-master.com
X-WR-CALDESC:Events for Forest Master
REFRESH-INTERVAL;VALUE=DURATION:PT1H
X-Robots-Tag:noindex
X-PUBLISHED-TTL:PT1H
BEGIN:VTIMEZONE
TZID:UTC
BEGIN:STANDARD
TZOFFSETFROM:+0000
TZOFFSETTO:+0000
TZNAME:UTC
DTSTART:20220101T000000
END:STANDARD
END:VTIMEZONE
BEGIN:VEVENT
DTSTART;VALUE=DATE:20230518
DTEND;VALUE=DATE:20230521
DTSTAMP:20260423T110953
CREATED:20230323T091934Z
LAST-MODIFIED:20230323T091934Z
UID:34024-1684368000-1684627199@forest-master.com
SUMMARY:Devon County Show 2023
DESCRIPTION:We are excited to announce that we will be attending the Devon County Show 2023\, the ultimate destination for anyone who loves animals\, tractors\, heavy horses\, food\, music\, dog shows\, scurry racing\, funfairs\, crafts\, gardens\, shopping\, and everything associated with country life in Devon. With something for all ages\, this fantastic event promises to be a memorable day out on Thursday 18th\, Friday 19th and Saturday 20th May 2023. Don’t miss the chance to be a part of this incredible celebration of all things Devon! \nClick here to find out more information and purchase your tickets
URL:https://forest-master.com/trade-show/devon-county-show-2023/
LOCATION:Devon County Show\, Westpoint\, Clyst St Mary\, Exeter\, EX5 1DJ\, United Kingdom
ATTACH;FMTTYPE=image/jpeg:https://forest-master.com/wp-content/uploads/2023/03/DevonCountyShow-scaled.jpg
ORGANIZER;CN="Devon County Show":MAILTO:info@dcshow.org
END:VEVENT
BEGIN:VEVENT
DTSTART;VALUE=DATE:20230527
DTEND;VALUE=DATE:20230528
DTSTAMP:20260423T110953
CREATED:20230323T093712Z
LAST-MODIFIED:20230323T100219Z
UID:34029-1685145600-1685231999@forest-master.com
SUMMARY:Northumberland County Show 2023
DESCRIPTION:We are excited to announce that we will be attending the Northumberland County Show\, which takes place at Bywell near Stocksfield on 27th May. As a highlight of the agricultural year in the region\, this major annual attraction draws over 30\,000 visitors with its more than 300 trade stands\, main arena events\, and nationally renowned agricultural and equine sections. \nClick here to find out more information and purchase your tickets
URL:https://forest-master.com/trade-show/northumberland-county-show-2023/
LOCATION:Northumberland County Show\, Bywell\, Hexham\, Northumberland\, NE43 7AB
ATTACH;FMTTYPE=image/jpeg:https://forest-master.com/wp-content/uploads/2023/03/Northumberland-County-Show-scaled.jpg
ORGANIZER;CN="Northumberland County Show":MAILTO:info@northcountyshow.co.uk
END:VEVENT
END:VCALENDAR