BEGIN:VCALENDAR
VERSION:2.0
PRODID:-//Forest Master - ECPv6.15.18//NONSGML v1.0//EN
CALSCALE:GREGORIAN
METHOD:PUBLISH
X-WR-CALNAME:Forest Master
X-ORIGINAL-URL:https://forest-master.com
X-WR-CALDESC:Events for Forest Master
REFRESH-INTERVAL;VALUE=DURATION:PT1H
X-Robots-Tag:noindex
X-PUBLISHED-TTL:PT1H
BEGIN:VTIMEZONE
TZID:UTC
BEGIN:STANDARD
TZOFFSETFROM:+0000
TZOFFSETTO:+0000
TZNAME:UTC
DTSTART:20220101T000000
END:STANDARD
END:VTIMEZONE
BEGIN:VEVENT
DTSTART;VALUE=DATE:20230622
DTEND;VALUE=DATE:20230626
DTSTAMP:20260423T110955
CREATED:20230323T115205Z
LAST-MODIFIED:20230323T115317Z
UID:34055-1687392000-1687737599@forest-master.com
SUMMARY:Royal Highland Show 2023
DESCRIPTION:We are delighted to announce that we will be attending the Royal Highland Show 2023\, an event that has something for everyone\, from competitions to shopping\, live music\, and tasty food and drinks. This is the perfect opportunity to meet\, touch\, smell\, taste\, and take home the best in the country. Don’t miss the chance to be a part of this incredible celebration of all things Scottish! \nClick here to find out more information and purchase your tickets
URL:https://forest-master.com/trade-show/royal-highland-show-2023/
LOCATION:Royal Highland Centre\, Royal Highland Centre Ingliston\, Newbridge\, EH28 8NB\, United Kingdom
ATTACH;FMTTYPE=image/jpeg:https://forest-master.com/wp-content/uploads/2023/03/trade-show-event-2-scaled.jpg
END:VEVENT
END:VCALENDAR