BEGIN:VCALENDAR
VERSION:2.0
PRODID:-//Forest Master - ECPv6.15.18//NONSGML v1.0//EN
CALSCALE:GREGORIAN
METHOD:PUBLISH
X-WR-CALNAME:Forest Master
X-ORIGINAL-URL:https://forest-master.com
X-WR-CALDESC:Events for Forest Master
REFRESH-INTERVAL;VALUE=DURATION:PT1H
X-Robots-Tag:noindex
X-PUBLISHED-TTL:PT1H
BEGIN:VTIMEZONE
TZID:UTC
BEGIN:STANDARD
TZOFFSETFROM:+0000
TZOFFSETTO:+0000
TZNAME:UTC
DTSTART:20220101T000000
END:STANDARD
END:VTIMEZONE
BEGIN:VEVENT
DTSTART;VALUE=DATE:20230707
DTEND;VALUE=DATE:20230710
DTSTAMP:20260423T080858
CREATED:20230323T122357Z
LAST-MODIFIED:20230323T122357Z
UID:34064-1688688000-1688947199@forest-master.com
SUMMARY:Kent County Show 2023
DESCRIPTION:We are thrilled to announce that we will be attending the Kent County Show\, the Society’s flagship event for farming\, agriculture\, and rural life in Kent. Join us on 7\, 8 & 9 July for the 92nd Show\, as we showcase the very best of what the ‘Garden of England’ has to offer. From animals to tractors\, showjumping\, food\, and flowers\, the Kent County Show has been entertaining and educating since 1923. This family-friendly event offers something for everyone\, no matter what your interests may be. Don’t miss the opportunity to experience the best of Kent at this unforgettable show. \nClick here to find out more information and purchase your tickets
URL:https://forest-master.com/trade-show/kent-county-show-2023/
LOCATION:Kent County Show\, Kent Showground\, Detling\, Maidstone\, Kent\, ME14 3JF\, United Kingdom
ATTACH;FMTTYPE=image/jpeg:https://forest-master.com/wp-content/uploads/2023/03/trade-show-event-5-scaled.jpg
END:VEVENT
BEGIN:VEVENT
DTSTART;VALUE=DATE:20230719
DTEND;VALUE=DATE:20230720
DTSTAMP:20260423T080858
CREATED:20230323T124811Z
LAST-MODIFIED:20230323T124929Z
UID:34069-1689724800-1689811199@forest-master.com
SUMMARY:Driffield Show 2023
DESCRIPTION:Join us at the 147th Driffield Show\, a fantastic event with something for everyone\, no matter your age or interests. This year\, the show returns to its traditional one-day format on Wednesday\, 19th July\, promising an unforgettable day out. With an exciting lineup of activities\, including agriculture displays\, food and drink stalls\, and much more\, the Driffield Show is the perfect way to spend a summer day in the company of friends and family. Don’t miss out on the chance to be a part of this exceptional event – buy your tickets today! \nClick here to find out more information and purchase your tickets
URL:https://forest-master.com/trade-show/driffield-show-2023/
LOCATION:Driffield Showground\, Driffield Road\, Kelleythorpe\, Driffield\, YO25 9FB
ATTACH;FMTTYPE=image/jpeg:https://forest-master.com/wp-content/uploads/2023/03/trade-show-event-6-scaled.jpg
ORGANIZER;CN="Driffield Showground":MAILTO:OFFICE@DRIFFIELDSHOWGROUND.CO.UK
END:VEVENT
END:VCALENDAR