BEGIN:VCALENDAR
VERSION:2.0
PRODID:-//Forest Master - ECPv6.15.18//NONSGML v1.0//EN
CALSCALE:GREGORIAN
METHOD:PUBLISH
X-WR-CALNAME:Forest Master
X-ORIGINAL-URL:https://forest-master.com
X-WR-CALDESC:Events for Forest Master
REFRESH-INTERVAL;VALUE=DURATION:PT1H
X-Robots-Tag:noindex
X-PUBLISHED-TTL:PT1H
BEGIN:VTIMEZONE
TZID:UTC
BEGIN:STANDARD
TZOFFSETFROM:+0000
TZOFFSETTO:+0000
TZNAME:UTC
DTSTART:20220101T000000
END:STANDARD
END:VTIMEZONE
BEGIN:VEVENT
DTSTART;TZID=UTC:20230728T080000
DTEND;TZID=UTC:20230730T193000
DTSTAMP:20260423T043220
CREATED:20230417T090950Z
LAST-MODIFIED:20230417T110113Z
UID:34777-1690531200-1690745400@forest-master.com
SUMMARY:The Game Fair 2023
DESCRIPTION:We’re excited to let you know that we’re going to be at the Game Fair 2023 at Ragley Hall\, Warwickshire from July 28th to the 30th. It’s going to be one of the biggest events of the year for countryside enthusiasts and we can’t wait to be a part of it! \nThere will be over 800 leading and speciality brands in Country Sports\, Shooting\, Fishing\, Dogs\, Equine\, Land & Estate Management\, Gardens & Home\, Food & Drink\, and Lifestyle\, so there’s something for everyone. Plus\, you’ll get to experience world-class attractions\, educational content\, and high-profile ambassadors. We’ll be there with all our latest products\, so come and say hi! \nWe can’t wait to meet like-minded individuals\, socialize\, and showcase our offerings. We believe the Game Fair provides a unique opportunity for us to engage with the countryside community and share our passion for forestry. \nSo\, whether you’re a countryside enthusiast or just looking for a fun day out\, come and join us at the Game Fair 2023! See you there! \nClick here to find out more information and purchase your tickets
URL:https://forest-master.com/trade-show/the-game-fair-2023/
LOCATION:Ragley Hall\, Alcester\, B49 5NJ\, United Kingdom
ATTACH;FMTTYPE=image/png:https://forest-master.com/wp-content/uploads/2023/04/trade-show-event-1.png
END:VEVENT
END:VCALENDAR