BEGIN:VCALENDAR
VERSION:2.0
PRODID:-//Forest Master - ECPv6.15.18//NONSGML v1.0//EN
CALSCALE:GREGORIAN
METHOD:PUBLISH
X-WR-CALNAME:Forest Master
X-ORIGINAL-URL:https://forest-master.com
X-WR-CALDESC:Events for Forest Master
REFRESH-INTERVAL;VALUE=DURATION:PT1H
X-Robots-Tag:noindex
X-PUBLISHED-TTL:PT1H
BEGIN:VTIMEZONE
TZID:UTC
BEGIN:STANDARD
TZOFFSETFROM:+0000
TZOFFSETTO:+0000
TZNAME:UTC
DTSTART:20220101T000000
END:STANDARD
END:VTIMEZONE
BEGIN:VEVENT
DTSTART;VALUE=DATE:20230913
DTEND;VALUE=DATE:20230915
DTSTAMP:20260423T113158
CREATED:20230323T145420Z
LAST-MODIFIED:20230831T082823Z
UID:34089-1694563200-1694735999@forest-master.com
SUMMARY:Westmorland County Show 2023
DESCRIPTION:Following the resounding success of 2022\, the Westmorland County Agricultural Society is excited to announce that the 2023 Westmorland County Show is proposed to be held over 2 days again on Wednesday 13 and Thursday 14 September. This will be the third time in our history that the County Show will be a 2-day event. \nLocated on the fringes of the Lake District\, Westmorland County Show is a fantastic day out – voted as one of the UK’s favourite Shows and enjoyed by over 30\,000 visitors every year. A major livestock Show with classes for cattle\, sheep\, pigs\, goats and alpacas\, heavy and light horses too\, there’s plenty to see. \nCome join us and experience a fun-packed 2-days of agricultural life! \nClick here to find out more information and purchase your tickets
URL:https://forest-master.com/trade-show/westmorland-county-show-2023/
LOCATION:Westmorland County Agricultural Society\, Lane Farm\, Crooklands\, Cumbria\, LA7 7NH\, United Kingdom
ATTACH;FMTTYPE=image/png:https://forest-master.com/wp-content/uploads/2023/03/logo.png
END:VEVENT
END:VCALENDAR