BEGIN:VCALENDAR
VERSION:2.0
PRODID:-//Forest Master - ECPv6.15.18//NONSGML v1.0//EN
CALSCALE:GREGORIAN
METHOD:PUBLISH
X-ORIGINAL-URL:https://forest-master.com
X-WR-CALDESC:Events for Forest Master
REFRESH-INTERVAL;VALUE=DURATION:PT1H
X-Robots-Tag:noindex
X-PUBLISHED-TTL:PT1H
BEGIN:VTIMEZONE
TZID:UTC
BEGIN:STANDARD
TZOFFSETFROM:+0000
TZOFFSETTO:+0000
TZNAME:UTC
DTSTART:20250101T000000
END:STANDARD
END:VTIMEZONE
BEGIN:VEVENT
DTSTART;VALUE=DATE:20260618
DTEND;VALUE=DATE:20260622
DTSTAMP:20260423T095553
CREATED:20250420T140031Z
LAST-MODIFIED:20260420T135535Z
UID:48722-1781740800-1782086399@forest-master.com
SUMMARY:Royal Highland Show 2026
DESCRIPTION:We are delighted to announce that we will be back attending the Royal Highland Show 2026\, an event that has something for everyone\, from competitions to shopping\, live music\, and tasty food and drinks. This is the perfect opportunity to meet\, touch\, smell\, taste\, and take home the best in the country. Don’t miss the chance to be a part of this incredible celebration of all things Scottish! \nClick here to find out more information and purchase your tickets
URL:https://forest-master.com/trade-show/royal-highland-show-2024/
LOCATION:Royal Highland Centre\, Royal Highland Centre Ingliston\, Newbridge\, EH28 8NB\, United Kingdom
ATTACH;FMTTYPE=image/jpeg:https://forest-master.com/wp-content/uploads/2024/05/1.jpg
END:VEVENT
BEGIN:VEVENT
DTSTART;VALUE=DATE:20260714
DTEND;VALUE=DATE:20260718
DTSTAMP:20260423T095553
CREATED:20240514T082254Z
LAST-MODIFIED:20260420T154811Z
UID:48728-1783987200-1784332799@forest-master.com
SUMMARY:Great Yorkshire Show 2025
DESCRIPTION:Join us at the Great Yorkshire Show\, one of the UK’s best agricultural shows\, between the 14th and 17th July 2026. With 140\,000 visitors to the 250-acre showground\, expect a celebration of agriculture\, food\, farming\, and countryside. Enjoy show jumping\, with some of the best riders competing\, as well as the best in British livestock\, forestry\, hives and honey\, a fabulous food hall\, cookery demos\, garden shows\, and countryside pursuits. We welcome everyone of all ages\, and look forward to seeing you there in July. Tickets for this year’s event are still available! \nClick here to find out more information and purchase your tickets
URL:https://forest-master.com/trade-show/great-yorkshire-show-2024/
LOCATION:Great Yorkshire Show\, Regional Agricultural Centre\, Great Yorkshire Showground\, Harrogate\, HG2 8NZ\, United Kingdom
ATTACH;FMTTYPE=image/jpeg:https://forest-master.com/wp-content/uploads/2024/05/2.jpg
END:VEVENT
END:VCALENDAR