BEGIN:VCALENDAR
VERSION:2.0
PRODID:-//Forest Master - ECPv6.15.18//NONSGML v1.0//EN
CALSCALE:GREGORIAN
METHOD:PUBLISH
X-ORIGINAL-URL:https://forest-master.com
X-WR-CALDESC:Events for Forest Master
REFRESH-INTERVAL;VALUE=DURATION:PT1H
X-Robots-Tag:noindex
X-PUBLISHED-TTL:PT1H
BEGIN:VTIMEZONE
TZID:UTC
BEGIN:STANDARD
TZOFFSETFROM:+0000
TZOFFSETTO:+0000
TZNAME:UTC
DTSTART:20220101T000000
END:STANDARD
END:VTIMEZONE
BEGIN:VEVENT
DTSTART;VALUE=DATE:20230601
DTEND;VALUE=DATE:20230604
DTSTAMP:20260423T081124
CREATED:20230323T102806Z
LAST-MODIFIED:20230323T103012Z
UID:34034-1685577600-1685836799@forest-master.com
SUMMARY:Royal Bath & West Show 2023
DESCRIPTION:We are thrilled to announce that we will be attending the action-packed Royal Bath & West Show\, which promises to be a haven for all enthusiasts of rural life and a Great British family day out this summer. With a plethora of activities\, demonstrations\, and entertainment over three days\, including interactive activities and fast-paced excitement in the Main Ring\, the show is not to be missed. The much-enhanced food hall experience will feature the producers of the finest food and drink in Britain\, ranging from funky street food to the finest produce you can take home to cook and share with all the family. Join us for a memorable experience! \nClick here to find out more information and purchase your tickets
URL:https://forest-master.com/trade-show/royal-bath-west-show-2023/
LOCATION:Royal Bath & West Show\, The Bath & West Showground\, Shepton Mallet\, Somerset\, BA4 6QN\, United Kingdom
ATTACH;FMTTYPE=image/jpeg:https://forest-master.com/wp-content/uploads/2023/03/RoyalBathandWest-scaled.jpg
END:VEVENT
BEGIN:VEVENT
DTSTART;VALUE=DATE:20230608
DTEND;VALUE=DATE:20230611
DTSTAMP:20260423T081124
CREATED:20230323T110051Z
LAST-MODIFIED:20230323T110146Z
UID:34041-1686182400-1686441599@forest-master.com
SUMMARY:Royal Cornwall Show 2023
DESCRIPTION:Come and see us at The Royal Cornwall Show – the biggest annual event in the county! With something for everyone\, including entertainment\, shopping\, competition\, food\, and farming\, it’s the perfect day out for the family. Featuring the best of Cornish agriculture\, top livestock\, and a renowned Flower Show\, the show is a unique experience. Don’t miss Main Ring Entertainment\, the traditional steam fair\, and over 1\,000 trade stands selling everything from cars to cheese. Join us for a memorable day! \nClick here to find out more information and purchase your tickets
URL:https://forest-master.com/trade-show/royal-cornwall-show-23/
LOCATION:Royal Cornwall Show\, Whitecross\, Wadebridge\, Cornwall\, PL27 7JE
ATTACH;FMTTYPE=image/jpeg:https://forest-master.com/wp-content/uploads/2023/03/trade-show-event-scaled.jpg
ORGANIZER;CN="Royal Cornwall Show":MAILTO:info@royalcornwall.co.uk
END:VEVENT
BEGIN:VEVENT
DTSTART;VALUE=DATE:20230616
DTEND;VALUE=DATE:20230619
DTSTAMP:20260423T081124
CREATED:20230323T112616Z
LAST-MODIFIED:20230323T112616Z
UID:34049-1686873600-1687132799@forest-master.com
SUMMARY:Royal Three Counties Show 2023
DESCRIPTION:We are excited to announce that we will be attending the Royal Three Counties Show\, which is returning bigger and better than ever after two years of absence. This is the perfect event for anyone interested in farming\, food\, and family entertainment\, featuring exciting new features such as the Food Festival and Farming in Action Demonstration\, along with an exciting programme of special guests. Don’t miss the non-stop entertainment in the Main Arena\, including the Grand Parade of Livestock. Join us for a fantastic day out! \nClick here to find out more information and purchase your tickets
URL:https://forest-master.com/trade-show/royal-three-counties-show-2023/
LOCATION:Royal Three Counties Show\, Three Counties Showground\, Malvern\, Worcestershire\, WR13 6NW\, United Kingdom
ATTACH;FMTTYPE=image/jpeg:https://forest-master.com/wp-content/uploads/2023/03/trade-show-event-1-scaled.jpg
END:VEVENT
BEGIN:VEVENT
DTSTART;VALUE=DATE:20230622
DTEND;VALUE=DATE:20230626
DTSTAMP:20260423T081124
CREATED:20230323T115205Z
LAST-MODIFIED:20230323T115317Z
UID:34055-1687392000-1687737599@forest-master.com
SUMMARY:Royal Highland Show 2023
DESCRIPTION:We are delighted to announce that we will be attending the Royal Highland Show 2023\, an event that has something for everyone\, from competitions to shopping\, live music\, and tasty food and drinks. This is the perfect opportunity to meet\, touch\, smell\, taste\, and take home the best in the country. Don’t miss the chance to be a part of this incredible celebration of all things Scottish! \nClick here to find out more information and purchase your tickets
URL:https://forest-master.com/trade-show/royal-highland-show-2023/
LOCATION:Royal Highland Centre\, Royal Highland Centre Ingliston\, Newbridge\, EH28 8NB\, United Kingdom
ATTACH;FMTTYPE=image/jpeg:https://forest-master.com/wp-content/uploads/2023/03/trade-show-event-2-scaled.jpg
END:VEVENT
END:VCALENDAR